BEGIN:VCALENDAR
VERSION:2.0
PRODID:-//Förderkreis -NaturHeimat- Müden/Örtze - ECPv6.0.10//NONSGML v1.0//EN
CALSCALE:GREGORIAN
METHOD:PUBLISH
X-WR-CALNAME:Förderkreis -NaturHeimat- Müden/Örtze
X-ORIGINAL-URL:https://foerderkreis-muedenoertze.de
X-WR-CALDESC:Veranstaltungen für Förderkreis -NaturHeimat- Müden/Örtze
REFRESH-INTERVAL;VALUE=DURATION:PT1H
X-Robots-Tag:noindex
X-PUBLISHED-TTL:PT1H
BEGIN:VTIMEZONE
TZID:Europe/Berlin
BEGIN:DAYLIGHT
TZOFFSETFROM:+0100
TZOFFSETTO:+0200
TZNAME:CEST
DTSTART:20260329T010000
END:DAYLIGHT
BEGIN:STANDARD
TZOFFSETFROM:+0200
TZOFFSETTO:+0100
TZNAME:CET
DTSTART:20261025T010000
END:STANDARD
END:VTIMEZONE
BEGIN:VEVENT
DTSTART;TZID=Europe/Berlin:20260425T090000
DTEND;TZID=Europe/Berlin:20260425T130000
DTSTAMP:20260425T122241
CREATED:20251125T140731Z
LAST-MODIFIED:20260302T140957Z
UID:4949-1777107600-1777122000@foerderkreis-muedenoertze.de
SUMMARY:Kleiderbörse Frühling/Sommer - Elterngruppe Kinnerhus
DESCRIPTION:Die Elterngruppe Kinnerhus lädt auch in diesem Jahr wieder zu einer Kleiderbörse mit Schwerpunkt Frühling/Sommer ein. Sie findet am 25.04.2026 in den bewährten Räumen des Gemeindehauses in der Alten Dorfstraße statt. Die Börse findet in der Zeit von 09:00 – 13:00 Uhr statt. Anmeldungen bitte bis zum 19.04.2026 an kinnerhus-boerse@gmx.de. Die Elterngruppe Kinnerhus freut sich auf viele Teilnehmer und Besucher.
URL:https://foerderkreis-muedenoertze.de/veranstaltung/kleiderboerse-fruehling-sommer-elterngruppe-kinnerhus/
LOCATION:Gemeindehaus Müden/Ö\, 29328
ATTACH;FMTTYPE=image/png:https://foerderkreis-muedenoertze.de/wp-content/uploads/2025/11/2026-04-25-Kinnerhus-Boerse_Fruehjahr-Sommer.png
END:VEVENT
END:VCALENDAR